BEGIN:VCALENDAR
PRODID:-//eluceo/ical//2.0/EN
VERSION:2.0
CALSCALE:GREGORIAN
BEGIN:VEVENT
UID:0e496b566983da5866c29553856c0f05
DTSTAMP:20260425T013849Z
SUMMARY:Partneranlass
DESCRIPTION:Meny: Abendessen im Café Forum\nWebbplats: http://www.wuerth.c
 h\nTalare: Führung durch die Ausstellung \n„Nasen riechen Tulpen“\, K
 unst von besonderen Menschen\n(Sammlung Würth und kreativ Werkstatt\nBür
 gerspital Basel)
URL:https://rotary-angenstein.ch/sv/agenda/show/31191
DTSTART;TZID=Europe/Zurich:20130514T190000
DTEND;TZID=Europe/Zurich:20130514T190000
LOCATION:Forum Würth\, Dornwydenweg 11\, Arlesheim
CATEGORIES:Rotary
END:VEVENT
BEGIN:VTIMEZONE
TZID:Europe/Zurich
BEGIN:DAYLIGHT
DTSTART:20130514T190000
TZNAME:CEST
TZOFFSETTO:+0200
TZOFFSETFROM:+0200
END:DAYLIGHT
END:VTIMEZONE
END:VCALENDAR
