BEGIN:VCALENDAR
PRODID:-//eluceo/ical//2.0/EN
VERSION:2.0
CALSCALE:GREGORIAN
BEGIN:VEVENT
UID:a30e33ff4c4a097fd318c078629dcdf1
DTSTAMP:20260420T160303Z
SUMMARY:Kurzreferat Tagbruch im Tunnelbau - Risikoüberlegungen und Lehren 
 für KMU
DESCRIPTION:Hans-Jörg Schlegel regt am Beispiel des Tagbruchs der DB an\, 
 über Risiken im Geschäft und bei Projekten nachzudenken. Er freut sich a
 uf eine rege Diskussion zum Thema Risikomanagement.\nWebbplats: http://www
 .klosterdornach.ch\nTalare: Rot. Hans-Jörg Schlegel
URL:https://rotary-angenstein.ch/sv/agenda/show/77593
DTSTART;TZID=Europe/Zurich:20171002T114500
DTEND;TZID=Europe/Zurich:20171002T133000
LOCATION:Kloster Dornach
CATEGORIES:Rotary
END:VEVENT
BEGIN:VTIMEZONE
TZID:Europe/Zurich
BEGIN:DAYLIGHT
DTSTART:20171002T114500
TZNAME:CEST
TZOFFSETTO:+0200
TZOFFSETFROM:+0200
END:DAYLIGHT
END:VTIMEZONE
END:VCALENDAR
