BEGIN:VCALENDAR
PRODID:-//eluceo/ical//2.0/EN
VERSION:2.0
CALSCALE:GREGORIAN
BEGIN:VEVENT
UID:4ddcfec0437c02a95348eb311b4f52c8
DTSTAMP:20260424T084455Z
SUMMARY:Austausch Inbound
DESCRIPTION:Unser Austausch-Schüler Colby She berichtet uns\, woher er kom
 mt\, über seine Motivation und über seine Erwartungen.\nWebbplats: http:
 //www.klosterdornach.ch\nTalare: Austauschschüler Colby She
URL:https://rotary-angenstein.ch/sv/agenda/show/79514
DTSTART;TZID=Europe/Zurich:20171030T114500
DTEND;TZID=Europe/Zurich:20171030T133000
LOCATION:Kloster Dornach
CATEGORIES:Rotary
END:VEVENT
BEGIN:VTIMEZONE
TZID:Europe/Zurich
BEGIN:STANDARD
DTSTART:20171030T114500
TZNAME:CET
TZOFFSETTO:+0100
TZOFFSETFROM:+0100
END:STANDARD
END:VTIMEZONE
END:VCALENDAR
