BEGIN:VCALENDAR
PRODID:-//eluceo/ical//2.0/EN
VERSION:2.0
CALSCALE:GREGORIAN
BEGIN:VEVENT
UID:367e8eab6b62c5d989bdd28f6c1026c6
DTSTAMP:20260420T061535Z
SUMMARY:Hildi Hefti (97) erzählt aus ihrem Leben und was sie am Leben erh
 ält
DESCRIPTION:Ihre Mutter mochte Hitler nicht sonderlich. Das hat sie auch la
 ut und deutlich gesagt. Das durfte man 1941 in Deutschland auch als Schwei
 zerin nicht. Zur Strafe musste Tochter Hildi in die Wehrmacht. Schon währ
 end der Ausbildung kam sie knapp mit dem Leben davon\, als allierte Bomben
  das Haus ihrer (jüdischen!) Schlummermutter trafen. An der Ostfront war 
 der Tod ein ständiger Begleiter. Sie hat in den russischen Wäldern Schre
 ckliches und zu tiefst Menschliches\, ja Grossartiges\, erlebt. Sie hat ju
 ngen (kräftigen\, schönen!) Männern mehrfach das Leben gerettet. Trotzd
 em sperrte man sie gegen Ende des Kriegs noch auf einem Zug Richtung KZ ..
 .\n\nHeute erzählt Hildi Hefti gerne über Fridolin\, Amarone\, die drei 
 L und ihre beiden (für ihr Alter) aussergewöhnlichen Hobbies.
URL:https://rotary-angenstein.ch/sv/agenda/show/91712
DTSTART;TZID=Europe/Zurich:20180917T120000
DTEND;TZID=Europe/Zurich:20180917T140000
LOCATION:Stifung Kloster Dornach
CATEGORIES:Rotary
END:VEVENT
BEGIN:VTIMEZONE
TZID:Europe/Zurich
BEGIN:DAYLIGHT
DTSTART:20180917T120000
TZNAME:CEST
TZOFFSETTO:+0200
TZOFFSETFROM:+0200
END:DAYLIGHT
END:VTIMEZONE
END:VCALENDAR
