BEGIN:VCALENDAR
PRODID:-//eluceo/ical//2.0/EN
VERSION:2.0
CALSCALE:GREGORIAN
BEGIN:VEVENT
UID:459c309c7e0bb76e9d167a0db6311c17
DTSTAMP:20260424T084810Z
SUMMARY:Elmar Zurbriggen -- Klassifikationsvortrag
DESCRIPTION:Der Unbekannte in meinem CV\n\nOder: Was kontrollieren wir wirk
 lich in unserem Leben?\n\nElmar wird seinen eigenen Lebenslauf "zerpflück
 en"\, wie er sagt\, und aufzeigen\, dass "sehr vieles in unserem Leben rei
 n zufällig\, unkontrollierbar\, ungeplant und unlogisch ist…"
URL:https://rotary-angenstein.ch/sv/agenda/show/91714
DTSTART;TZID=Europe/Zurich:20180924T120000
DTEND;TZID=Europe/Zurich:20180924T140000
LOCATION:Stifung Kloster Dornach
CATEGORIES:Rotary
END:VEVENT
BEGIN:VTIMEZONE
TZID:Europe/Zurich
BEGIN:DAYLIGHT
DTSTART:20180924T120000
TZNAME:CEST
TZOFFSETTO:+0200
TZOFFSETFROM:+0200
END:DAYLIGHT
END:VTIMEZONE
END:VCALENDAR
