BEGIN:VCALENDAR
PRODID:-//eluceo/ical//2.0/EN
VERSION:2.0
CALSCALE:GREGORIAN
BEGIN:VEVENT
UID:3fae40131a24d0f8af2c2f5730b99a7e
DTSTAMP:20260420T042712Z
SUMMARY:Plauderlunch
DESCRIPTION:Ferienzeit - Plauderzeit
URL:https://rotary-angenstein.ch/sv/agenda/show/91715
DTSTART;TZID=Europe/Zurich:20181001T120000
DTEND;TZID=Europe/Zurich:20181001T140000
LOCATION:Stifung Kloster Dornach
CATEGORIES:Rotary
END:VEVENT
BEGIN:VTIMEZONE
TZID:Europe/Zurich
BEGIN:DAYLIGHT
DTSTART:20181001T120000
TZNAME:CEST
TZOFFSETTO:+0200
TZOFFSETFROM:+0200
END:DAYLIGHT
END:VTIMEZONE
END:VCALENDAR
