BEGIN:VCALENDAR
PRODID:-//eluceo/ical//2.0/EN
VERSION:2.0
CALSCALE:GREGORIAN
BEGIN:VEVENT
UID:eab6d074bb03c4a0c1b3976eaada7b38
DTSTAMP:20260420T043002Z
SUMMARY:Plauderabend
DESCRIPTION:Auch Partner dürfen mitreden und sind zum Plauderabend (mal an
 statt Lunch) herzlich eingeladen.
URL:https://rotary-angenstein.ch/sv/agenda/show/91716
DTSTART;TZID=Europe/Zurich:20181009T180000
DTEND;TZID=Europe/Zurich:20181009T220000
LOCATION:Stifung Kloster Dornach
CATEGORIES:Rotary
END:VEVENT
BEGIN:VTIMEZONE
TZID:Europe/Zurich
BEGIN:DAYLIGHT
DTSTART:20181009T180000
TZNAME:CEST
TZOFFSETTO:+0200
TZOFFSETFROM:+0200
END:DAYLIGHT
END:VTIMEZONE
END:VCALENDAR
