BEGIN:VCALENDAR
PRODID:-//eluceo/ical//2.0/EN
VERSION:2.0
CALSCALE:GREGORIAN
BEGIN:VEVENT
UID:03331e7c965536ffb66222a28cf81947
DTSTAMP:20260420T030036Z
SUMMARY:70 Jahre Menschenrechte  -- Ein Rück- und Ausblick
DESCRIPTION:Die Allgemeine Erklärung der Menschenrechte wurde am 10. Dezem
 ber 1948\, also vor genau 70 Jahren\, von den Vereinten Nationen in New Yo
 rk verabschiedet. Was sind Menschenrechte? Wie sind sie entstanden? Wie st
 eht es um die Menschenrechte heute? Gibt es auch Menschenpflichten?\n\nUnb
 ekanntes erhellt den Hintergrund des bereits Bekannten. Das gibt zu reden!
  Es dürfen (sollen\, müssen?) auch alle mitreden -- selbstverständlich!
 \nTalare: Der Programmchef\, ex officio\, referiert. 
URL:https://rotary-angenstein.ch/sv/agenda/show/91803
DTSTART;TZID=Europe/Zurich:20181210T120000
DTEND;TZID=Europe/Zurich:20181210T140000
LOCATION:Stifung Kloster Dornach
CATEGORIES:Rotary
END:VEVENT
BEGIN:VTIMEZONE
TZID:Europe/Zurich
BEGIN:STANDARD
DTSTART:20181210T120000
TZNAME:CET
TZOFFSETTO:+0100
TZOFFSETFROM:+0100
END:STANDARD
END:VTIMEZONE
END:VCALENDAR
